BEGIN:VCALENDAR
VERSION:2.0
PRODID:-//American Institute of Aeronautics and Astronautics - San Francisco - ECPv6.6.4.2//NONSGML v1.0//EN
CALSCALE:GREGORIAN
METHOD:PUBLISH
X-WR-CALNAME:American Institute of Aeronautics and Astronautics - San Francisco
X-ORIGINAL-URL:https://aiaa-sf.org
X-WR-CALDESC:Events for American Institute of Aeronautics and Astronautics - San Francisco
REFRESH-INTERVAL;VALUE=DURATION:PT1H
X-Robots-Tag:noindex
X-PUBLISHED-TTL:PT1H
BEGIN:VTIMEZONE
TZID:America/Los_Angeles
BEGIN:DAYLIGHT
TZOFFSETFROM:-0800
TZOFFSETTO:-0700
TZNAME:PDT
DTSTART:20230312T100000
END:DAYLIGHT
BEGIN:STANDARD
TZOFFSETFROM:-0700
TZOFFSETTO:-0800
TZNAME:PST
DTSTART:20231105T090000
END:STANDARD
END:VTIMEZONE
BEGIN:VEVENT
DTSTART;TZID=America/Los_Angeles:20230913T180000
DTEND;TZID=America/Los_Angeles:20230913T193000
DTSTAMP:20260419T115846
CREATED:20230829T063313Z
LAST-MODIFIED:20230829T072449Z
UID:2481-1694628000-1694633400@aiaa-sf.org
SUMMARY:Tech Talk: 196 Days Off the Planet
DESCRIPTION:196 Days Off the Planet with Astronaut Dan Bursch\nDan Bursch will discuss the adventure of living in space during his stay on the International Space Station from December 2001 until June 2002. Through pictures and stories\, he will discuss the challenges of working on an international program\, and show just a few of the beautiful views of our spaceship Earth. \nSelected by NASA in January 1990\, Bursch became an astronaut in July 1991. His technical assignments included: Astronaut Office Operations Development Branch\, working on controls and displays for the Space Shuttle and Space Station; Chief of Astronaut Appearances; spacecraft communicator (CAPCOM) in mission control. A veteran of four space flights\, Bursch has logged over 227 days in space. He was a mission specialist on STS-51 (1993)\, STS-68 (1994) and STS-77 (1996) and served as flight engineer on the International Space Station (ISS) Expedition-Four (2001-2002). Dan Bursch and fellow astronaut Carl Walz have one of the longest single flights for US astronauts: 196 days in space. In January 2003\, Bursch reported to the Naval Postgraduate School in Monterey\, CA for a two-year assignment as an instructor in the Space Systems Academic Group.  In June 2004 he was appointed Associate Dean of the Graduate School of Engineering and Applied Sciences.  Bursch retired from the Navy in July 2005 after 26 years of service.  He then joined the Aerospace Corporation and served as the National Reconnaissance Office (NRO) Advisor at the Naval Postgraduate School in Monterey until his retirement in 2019. \n  \n  \nDoors open: 6:00pm \nFood: 6:15pm \nPresentation: 6:30pm \nAdvance registration required! Refreshments (pizza\, sandwiches\, drinks) will be served at the presentation for pre-paid attendees only. \n  \nhttps://aiaa-sf.org/registration/ \nShare this:Click to share on Facebook (Opens in new window)Click to share on LinkedIn (Opens in new window)Click to share on Telegram (Opens in new window)Click to share on Pinterest (Opens in new window)Click to share on Twitter (Opens in new window)Click to share on WhatsApp (Opens in new window)Click to email a link to a friend (Opens in new window)Click to print (Opens in new window)
URL:https://aiaa-sf.org/event/tech-talk-196-days-off-the-planet/
LOCATION:Santa Clara University\, 500 El Camino Real\, Santa Clara\, CA\, 95053\, United States
ATTACH;FMTTYPE=image/png:https://aiaa-sf.org/wp-content/uploads/ISS.png
END:VEVENT
END:VCALENDAR