BEGIN:VCALENDAR
VERSION:2.0
PRODID:-//American Institute of Aeronautics and Astronautics - San Francisco - ECPv6.6.4.2//NONSGML v1.0//EN
CALSCALE:GREGORIAN
METHOD:PUBLISH
X-WR-CALNAME:American Institute of Aeronautics and Astronautics - San Francisco
X-ORIGINAL-URL:https://aiaa-sf.org
X-WR-CALDESC:Events for American Institute of Aeronautics and Astronautics - San Francisco
REFRESH-INTERVAL;VALUE=DURATION:PT1H
X-Robots-Tag:noindex
X-PUBLISHED-TTL:PT1H
BEGIN:VTIMEZONE
TZID:America/Los_Angeles
BEGIN:DAYLIGHT
TZOFFSETFROM:-0800
TZOFFSETTO:-0700
TZNAME:PDT
DTSTART:20230312T100000
END:DAYLIGHT
BEGIN:STANDARD
TZOFFSETFROM:-0700
TZOFFSETTO:-0800
TZNAME:PST
DTSTART:20231105T090000
END:STANDARD
END:VTIMEZONE
BEGIN:VEVENT
DTSTART;TZID=America/Los_Angeles:20230523T180000
DTEND;TZID=America/Los_Angeles:20230523T193000
DTSTAMP:20260419T091426
CREATED:20230516T202712Z
LAST-MODIFIED:20230516T202712Z
UID:2434-1684864800-1684870200@aiaa-sf.org
SUMMARY:Tech Talk: Interstellar Travel
DESCRIPTION:https://aiaa-sf.org/registration/ \nInterstellar Travel – Nuclear Propulsion and Other Fun Topics\nThe fact that we measure interstellar distances in light-years (the distance that light can travel in a year\, going 186\,000 miles per second) demonstrates the vastness of the medium. Using NASA’s fastest rockets\, it would take more than 10\,000 years to travel to our closest star system\, only 4 light years away (Alpha Centauri). In this talk\, we will examine the feasibility of human travel to our nearest stellar neighbors\, what technologies we need to get us there\, and some unexpected consequences to exploring the galaxy at extremely fast speeds. \nRyan Weed is a physicist and USAF Experimental Test Pilot\, logging over 2000 hours in more than 30 different aircraft. Ryan is a NASA Innovative Advanced Concepts (NIAC) Fellow\, studying radioisotope positron and fission fragment propulsion systems. He has worked at Blue Origin\, where he designed and implemented an instrumentation laboratory for cryogenic rocket fuels\, and founded Positron Dynamics\, where he designed and built a positron beamline facility\, and developed high specific impulse propulsion concepts. Ryan earned a B.A in Physics from Wesleyan University\, B.S. in Applied Physics from Columbia University\, M.Sc. in Flight Test Engineering from Air University\, and PhD in Physics from Australian National University. In his current role at DIU\, Ryan manages the Nuclear Propulsion and Power program within the Space Portfolio. \nNote: For this event\, attendance is free (registration is still required). Refreshments (pizza\, sandwiches\, drinks) are optional and will be served at the presentation to paid attendees only.\nhttps://aiaa-sf.org/registration/ \nShare this:Click to share on Facebook (Opens in new window)Click to share on LinkedIn (Opens in new window)Click to share on Telegram (Opens in new window)Click to share on Pinterest (Opens in new window)Click to share on Twitter (Opens in new window)Click to share on WhatsApp (Opens in new window)Click to email a link to a friend (Opens in new window)Click to print (Opens in new window)
URL:https://aiaa-sf.org/event/tech-talk-interstellar-travel/
LOCATION:Hacker Dojo\, 855 Maude Avenue\, Mountain View\, CA\, 94043\, United States
ATTACH;FMTTYPE=image/jpeg:https://aiaa-sf.org/wp-content/uploads/interstellar_travel.jpg
END:VEVENT
END:VCALENDAR